BEGIN:VCALENDAR
VERSION:2.0
PRODID:-//jEvents 2.0 for Joomla//EN
CALSCALE:GREGORIAN
METHOD:PUBLISH
BEGIN:VEVENT
UID:fd532eab6715198c860706d10ae1887d
CATEGORIES:Abwesenheit Verena
CREATED:20220715T100944
SUMMARY:Teilbesetzung eja
URL;VALUE=URI:https://www.eja-aalen.de/medien/kalender/icalrepeat.detail/2022/08/01/1001/
 -/teilbesetzung-eja?tmpl=component
DESCRIPTION: Dieser Event wurde importiert von: https://www.eja-aalen.de/medien/kalende
 r/icalrepeat.detail/2022/08/01/1001/-/teilbesetzung-eja?tmpl=component
X-ALT-DESC;FMTTYPE=text/html: <a href="https://www.eja-aalen.de/medien/kalender/icalrepeat.detail/2022/0
 8/01/1001/-/teilbesetzung-eja?tmpl=component">Dieser Event wurde importiert
  von: https://www.eja-aalen.de/medien/kalender/icalrepeat.detail/2022/08/01
 /1001/-/teilbesetzung-eja?tmpl=component</a>DTSTAMP:20260424T174441
DTSTART;VALUE=DATE:20220801
DTEND;VALUE=DATE:20220809
SEQUENCE:0
TRANSP:OPAQUE
END:VEVENT
END:VCALENDAR