BEGIN:VCALENDAR
VERSION:2.0
PRODID:-//jEvents 2.0 for Joomla//EN
CALSCALE:GREGORIAN
METHOD:PUBLISH
BEGIN:VEVENT
UID:5ce4af87db874ee19ec2469794257bb8
CATEGORIES:Freizeiten
CREATED:20230322T111020
SUMMARY:Jugendfreizeit Toskana
URL;VALUE=URI:https://www.eja-aalen.de/medien/kalender/icalrepeat.detail/2023/05/31/1007/
 -/jugendfreizeit-toskana?tmpl=component
DESCRIPTION: Dieser Event wurde importiert von: https://www.eja-aalen.de/medien/kalende
 r/icalrepeat.detail/2023/05/31/1007/-/jugendfreizeit-toskana?tmpl=component
X-ALT-DESC;FMTTYPE=text/html: <a href="https://www.eja-aalen.de/medien/kalender/icalrepeat.detail/2023/0
 5/31/1007/-/jugendfreizeit-toskana?tmpl=component">Dieser Event wurde impor
 tiert von: https://www.eja-aalen.de/medien/kalender/icalrepeat.detail/2023/
 05/31/1007/-/jugendfreizeit-toskana?tmpl=component</a>DTSTAMP:20260424T183403
DTSTART;VALUE=DATE:20230531
DTEND;VALUE=DATE:20230611
SEQUENCE:0
TRANSP:OPAQUE
END:VEVENT
END:VCALENDAR