BEGIN:VCALENDAR
VERSION:2.0
PRODID:-//jEvents 2.0 for Joomla//EN
CALSCALE:GREGORIAN
METHOD:PUBLISH
BEGIN:VEVENT
UID:4802b930e713595a352308c2d6080485
CATEGORIES:Freizeiten
CREATED:20230322T111249
SUMMARY:Mädchenzeltlager
URL;VALUE=URI:https://www.eja-aalen.de/medien/kalender/icalrepeat.detail/2023/08/07/1010/
 -/maedchenzeltlager?tmpl=component
DESCRIPTION: Dieser Event wurde importiert von: https://www.eja-aalen.de/medien/kalende
 r/icalrepeat.detail/2023/08/07/1010/-/maedchenzeltlager?tmpl=component
X-ALT-DESC;FMTTYPE=text/html: <a href="https://www.eja-aalen.de/medien/kalender/icalrepeat.detail/2023/0
 8/07/1010/-/maedchenzeltlager?tmpl=component">Dieser Event wurde importiert
  von: https://www.eja-aalen.de/medien/kalender/icalrepeat.detail/2023/08/07
 /1010/-/maedchenzeltlager?tmpl=component</a>DTSTAMP:20260426T022334
DTSTART:20230807T080000
DTEND:20230816T170000
SEQUENCE:0
TRANSP:OPAQUE
END:VEVENT
END:VCALENDAR