BEGIN:VCALENDAR
VERSION:2.0
PRODID:-//jEvents 2.0 for Joomla//EN
CALSCALE:GREGORIAN
METHOD:PUBLISH
BEGIN:VEVENT
UID:4c82607f87d4822e76a2adda3de729c8
CATEGORIES:Jugendgottesdienste
CREATED:20231124T103319
SUMMARY:re:CHARGE Jugendgottesdienst
LOCATION:Ev. Gemeindehaus Wasseralfingen
URL;VALUE=URI:https://www.eja-aalen.de/medien/kalender/icalrepeat.detail/2024/06/30/1026/
 -/re-charge-jugendgottesdienst?tmpl=component
DESCRIPTION: Dieser Event wurde importiert von: https://www.eja-aalen.de/medien/kalende
 r/icalrepeat.detail/2024/06/30/1026/-/re-charge-jugendgottesdienst?tmpl=com
 ponent
X-ALT-DESC;FMTTYPE=text/html: <a href="https://www.eja-aalen.de/medien/kalender/icalrepeat.detail/2024/0
 6/30/1026/-/re-charge-jugendgottesdienst?tmpl=component">Dieser Event wurde
  importiert von: https://www.eja-aalen.de/medien/kalender/icalrepeat.detail
 /2024/06/30/1026/-/re-charge-jugendgottesdienst?tmpl=component</a>CONTACT:Diese E-Mail-Adresse ist vor Spambots geschützt! Zur Anzeige muss JavaScript eingeschaltet sein!
				document.getElementById('cloak68ee167a9bda274bb3c8b8cffacc2664').innerHTML = '';
				var prefix = '&#109;a' + 'i&#108;' + '&#116;o';
				var path = 'hr' + 'ef' + '=';
				var addy68ee167a9bda274bb3c8b8cffacc2664 = 'j&#117;g&#101;ndg&#111;tt&#101;sd&#105;&#101;nst' + '&#64;';
				addy68ee167a9bda274bb3c8b8cffacc2664 = addy68ee167a9bda274bb3c8b8cffacc2664 + '&#101;j&#97;-&#97;&#97;l&#101;n' + '&#46;' + 'd&#101;';
				var addy_text68ee167a9bda274bb3c8b8cffacc2664 = 'j&#117;g&#101;ndg&#111;tt&#101;sd&#105;&#101;nst' + '&#64;' + '&#101;j&#97;-&#97;&#97;l&#101;n' + '&#46;' + 'd&#101;';document.getElementById('cloak68ee167a9bda274bb3c8b8cffacc2664').innerHTML += '<a ' + path + '\'' + prefix + ':' + addy68ee167a9bda274bb3c8b8cffacc2664 + '\'>'+addy_text68ee167a9bda274bb3c8b8cffacc2664+'';
		
DTSTAMP:20260426T002157
DTSTART:20240630T170000
SEQUENCE:0
TRANSP:OPAQUE
END:VEVENT
END:VCALENDAR