BEGIN:VCALENDAR
VERSION:2.0
PRODID:-//jEvents 2.0 for Joomla//EN
CALSCALE:GREGORIAN
METHOD:PUBLISH
BEGIN:VEVENT
UID:ca1592855be9541d403b44dfaa4a545f
CATEGORIES:Abwesenheit Verena
CREATED:20240529T170954
SUMMARY:Fortbildung NFS
URL;VALUE=URI:https://www.eja-aalen.de/medien/kalender/icalrepeat.detail/2024/06/03/1039/
 -/fortbildung-nfs?tmpl=component
DESCRIPTION: Dieser Event wurde importiert von: https://www.eja-aalen.de/medien/kalende
 r/icalrepeat.detail/2024/06/03/1039/-/fortbildung-nfs?tmpl=component
X-ALT-DESC;FMTTYPE=text/html: <a href="https://www.eja-aalen.de/medien/kalender/icalrepeat.detail/2024/0
 6/03/1039/-/fortbildung-nfs?tmpl=component">Dieser Event wurde importiert v
 on: https://www.eja-aalen.de/medien/kalender/icalrepeat.detail/2024/06/03/1
 039/-/fortbildung-nfs?tmpl=component</a>DTSTAMP:20260424T183650
DTSTART;VALUE=DATE:20240603
DTEND;VALUE=DATE:20240608
SEQUENCE:0
TRANSP:OPAQUE
END:VEVENT
END:VCALENDAR