BEGIN:VCALENDAR
VERSION:2.0
PRODID:-//jEvents 2.0 for Joomla//EN
CALSCALE:GREGORIAN
METHOD:PUBLISH
BEGIN:VEVENT
UID:0f8afc8605b968e3904afb8d9bde6978
CATEGORIES:Freizeiten
CREATED:20240630T135749
SUMMARY:Konfi-Camp
LOCATION:Stockensägmühle
URL;VALUE=URI:https://www.eja-aalen.de/medien/kalender/icalrepeat.detail/2024/07/12/1047/
 -/konfi-camp?tmpl=component
DESCRIPTION: Dieser Event wurde importiert von: https://www.eja-aalen.de/medien/kalende
 r/icalrepeat.detail/2024/07/12/1047/-/konfi-camp?tmpl=component
X-ALT-DESC;FMTTYPE=text/html: <a href="https://www.eja-aalen.de/medien/kalender/icalrepeat.detail/2024/0
 7/12/1047/-/konfi-camp?tmpl=component">Dieser Event wurde importiert von: h
 ttps://www.eja-aalen.de/medien/kalender/icalrepeat.detail/2024/07/12/1047/-
 /konfi-camp?tmpl=component</a>CONTACT:Diese E-Mail-Adresse ist vor Spambots geschützt! Zur Anzeige muss JavaScript eingeschaltet sein!
				document.getElementById('cloakc15d1cae5ef3070149bccc1b61bb66ad').innerHTML = '';
				var prefix = '&#109;a' + 'i&#108;' + '&#116;o';
				var path = 'hr' + 'ef' + '=';
				var addyc15d1cae5ef3070149bccc1b61bb66ad = 'g&#101;mp&#101;rl&#101;&#105;n.v&#101;r&#101;n&#97;' + '&#64;';
				addyc15d1cae5ef3070149bccc1b61bb66ad = addyc15d1cae5ef3070149bccc1b61bb66ad + '&#101;j&#97;-&#97;&#97;l&#101;n' + '&#46;' + 'd&#101;';
				var addy_textc15d1cae5ef3070149bccc1b61bb66ad = 'g&#101;mp&#101;rl&#101;&#105;n.v&#101;r&#101;n&#97;' + '&#64;' + '&#101;j&#97;-&#97;&#97;l&#101;n' + '&#46;' + 'd&#101;';document.getElementById('cloakc15d1cae5ef3070149bccc1b61bb66ad').innerHTML += '<a ' + path + '\'' + prefix + ':' + addyc15d1cae5ef3070149bccc1b61bb66ad + '\'>'+addy_textc15d1cae5ef3070149bccc1b61bb66ad+'';
		
DTSTAMP:20260424T221018
DTSTART:20240712T160000
DTEND:20240714T120000
SEQUENCE:0
TRANSP:OPAQUE
END:VEVENT
END:VCALENDAR