BEGIN:VCALENDAR
VERSION:2.0
PRODID:-//jEvents 2.0 for Joomla//EN
CALSCALE:GREGORIAN
METHOD:PUBLISH
BEGIN:VEVENT
UID:de0026b5d7aa7a84544ef685d9141ca2
CATEGORIES:Gremien
CREATED:20250515T173053
SUMMARY:BAK
URL;VALUE=URI:https://www.eja-aalen.de/medien/kalender/icalrepeat.detail/2025/05/15/1053/
 -/bak?tmpl=component
DESCRIPTION:<p>Aalen</p> <a href="https://www.eja-aalen.de/medien/kalender/icalrepeat.d
 etail/2025/05/15/1053/-/bak?tmpl=component">Dieser Event wurde importiert v
 on: https://www.eja-aalen.de/medien/kalender/icalrepeat.detail/2025/05/15/1
 053/-/bak?tmpl=component</a>DTSTAMP:20260424T092253
DTSTART:20250515T183000
SEQUENCE:0
TRANSP:OPAQUE
END:VEVENT
END:VCALENDAR