BEGIN:VCALENDAR
VERSION:2.0
PRODID:-//jEvents 2.0 for Joomla//EN
CALSCALE:GREGORIAN
METHOD:PUBLISH
BEGIN:VEVENT
UID:d8b8ec67646819fbb3815c7fbacd141e
CATEGORIES:Veranstaltungen
CREATED:20250515T174128
SUMMARY:#klimafasten KlimaKüchenChefs
URL;VALUE=URI:https://www.eja-aalen.de/medien/kalender/icalrepeat.detail/2025/07/12/1065/
 -/klimafasten-klimakuechenchefs?tmpl=component
DESCRIPTION: <a href="https://www.eja-aalen.de/medien/kalender/icalrepeat.detail/2025/0
 7/12/1065/-/klimafasten-klimakuechenchefs?tmpl=component">Dieser Event wurd
 e importiert von: https://www.eja-aalen.de/medien/kalender/icalrepeat.detai
 l/2025/07/12/1065/-/klimafasten-klimakuechenchefs?tmpl=component</a>DTSTAMP:20260423T144624
DTSTART:20250712T143000
DTEND:20250712T190000
SEQUENCE:0
TRANSP:OPAQUE
END:VEVENT
END:VCALENDAR