BEGIN:VCALENDAR
VERSION:2.0
PRODID:-//jEvents 2.0 for Joomla//EN
CALSCALE:GREGORIAN
METHOD:PUBLISH
BEGIN:VEVENT
UID:13738c61ed97a2d14302de08e4137adf
CATEGORIES:Freizeiten
CREATED:20250515T175209
SUMMARY:AlbDraufgänger
URL;VALUE=URI:https://www.eja-aalen.de/medien/kalender/icalrepeat.detail/2025/05/28/1075/
 -/albdraufgaenger?tmpl=component
DESCRIPTION:<p>Ulrikaweg</p> <a href="https://www.eja-aalen.de/medien/kalender/icalrepe
 at.detail/2025/05/28/1075/-/albdraufgaenger?tmpl=component">Dieser Event wu
 rde importiert von: https://www.eja-aalen.de/medien/kalender/icalrepeat.det
 ail/2025/05/28/1075/-/albdraufgaenger?tmpl=component</a>DTSTAMP:20260424T092030
DTSTART;VALUE=DATE:20250528
DTEND;VALUE=DATE:20250531
SEQUENCE:0
TRANSP:OPAQUE
END:VEVENT
END:VCALENDAR