BEGIN:VCALENDAR
VERSION:2.0
PRODID:-//jEvents 2.0 for Joomla//EN
CALSCALE:GREGORIAN
METHOD:PUBLISH
BEGIN:VEVENT
UID:ec1610fa5e44e901dd8814df82802a07
CATEGORIES:Freizeiten
CREATED:20250515T175256
SUMMARY:BZL
URL;VALUE=URI:https://www.eja-aalen.de/medien/kalender/icalrepeat.detail/2025/08/01/1076/
 -/bzl?tmpl=component
DESCRIPTION:Stockensägmühle\n Dieser Event wurde importiert von: https://www.eja-aalen.
 de/medien/kalender/icalrepeat.detail/2025/08/01/1076/-/bzl?tmpl=component
X-ALT-DESC;FMTTYPE=text/html:<p>Stockensägmühle</p> <a href="https://www.eja-aalen.de/medien/kalender/ic
 alrepeat.detail/2025/08/01/1076/-/bzl?tmpl=component">Dieser Event wurde im
 portiert von: https://www.eja-aalen.de/medien/kalender/icalrepeat.detail/20
 25/08/01/1076/-/bzl?tmpl=component</a>DTSTAMP:20260424T192941
DTSTART;VALUE=DATE:20250801
DTEND;VALUE=DATE:20250811
SEQUENCE:0
TRANSP:OPAQUE
END:VEVENT
END:VCALENDAR