BEGIN:VCALENDAR
VERSION:2.0
PRODID:-//jEvents 2.0 for Joomla//EN
CALSCALE:GREGORIAN
METHOD:PUBLISH
BEGIN:VEVENT
UID:9414cb51db5d3b2144c472a3cb8dbf83
CATEGORIES:Freizeiten
CREATED:20250515T175338
SUMMARY:MZL
URL;VALUE=URI:https://www.eja-aalen.de/medien/kalender/icalrepeat.detail/2025/08/11/1077/
 -/mzl?tmpl=component
DESCRIPTION:<p>Stockensägmühle</p> <a href="https://www.eja-aalen.de/medien/kalender/ic
 alrepeat.detail/2025/08/11/1077/-/mzl?tmpl=component">Dieser Event wurde im
 portiert von: https://www.eja-aalen.de/medien/kalender/icalrepeat.detail/20
 25/08/11/1077/-/mzl?tmpl=component</a>DTSTAMP:20260425T135351
DTSTART;VALUE=DATE:20250811
DTEND;VALUE=DATE:20250821
SEQUENCE:0
TRANSP:OPAQUE
END:VEVENT
END:VCALENDAR