BEGIN:VCALENDAR
VERSION:2.0
PRODID:-//jEvents 2.0 for Joomla//EN
CALSCALE:GREGORIAN
METHOD:PUBLISH
BEGIN:VEVENT
UID:c721e9843834cd614e3df9a4db349ed7
CATEGORIES:Freizeiten
CREATED:20250515T175458
SUMMARY:FTH 1. Abschnitt
URL;VALUE=URI:https://www.eja-aalen.de/medien/kalender/icalrepeat.detail/2025/08/18/1079/
 -/fth-1-abschnitt?tmpl=component
DESCRIPTION:<p>Leinroden</p> <a href="https://www.eja-aalen.de/medien/kalender/icalrepe
 at.detail/2025/08/18/1079/-/fth-1-abschnitt?tmpl=component">Dieser Event wu
 rde importiert von: https://www.eja-aalen.de/medien/kalender/icalrepeat.det
 ail/2025/08/18/1079/-/fth-1-abschnitt?tmpl=component</a>DTSTAMP:20260425T135544
DTSTART;VALUE=DATE:20250818
DTEND;VALUE=DATE:20250830
SEQUENCE:0
TRANSP:OPAQUE
END:VEVENT
END:VCALENDAR