BEGIN:VCALENDAR
VERSION:2.0
PRODID:-//jEvents 2.0 for Joomla//EN
CALSCALE:GREGORIAN
METHOD:PUBLISH
BEGIN:VEVENT
UID:9cd11a7414b568fc9ae628043713fb37
CATEGORIES:Freizeiten
CREATED:20250515T175549
SUMMARY:KidsCamp Stocken
URL;VALUE=URI:https://www.eja-aalen.de/medien/kalender/icalrepeat.detail/2025/08/22/1080/
 -/kidscamp-stocken?tmpl=component
DESCRIPTION:<p>Stockensägmühle</p> <a href="https://www.eja-aalen.de/medien/kalender/ic
 alrepeat.detail/2025/08/22/1080/-/kidscamp-stocken?tmpl=component">Dieser E
 vent wurde importiert von: https://www.eja-aalen.de/medien/kalender/icalrep
 eat.detail/2025/08/22/1080/-/kidscamp-stocken?tmpl=component</a>DTSTAMP:20260425T012103
DTSTART;VALUE=DATE:20250822
DTEND;VALUE=DATE:20250901
SEQUENCE:0
TRANSP:OPAQUE
END:VEVENT
END:VCALENDAR