BEGIN:VCALENDAR
VERSION:2.0
PRODID:-//jEvents 2.0 for Joomla//EN
CALSCALE:GREGORIAN
METHOD:PUBLISH
BEGIN:VEVENT
UID:cabebe34c7ef62a510068f0ec8aa5046
CATEGORIES:Freizeiten
CREATED:20250515T175624
SUMMARY:LKB
URL;VALUE=URI:https://www.eja-aalen.de/medien/kalender/icalrepeat.detail/2025/08/25/1081/
 -/lkb?tmpl=component
DESCRIPTION:<p>Trochtelfingen</p> <a href="https://www.eja-aalen.de/medien/kalender/ica
 lrepeat.detail/2025/08/25/1081/-/lkb?tmpl=component">Dieser Event wurde imp
 ortiert von: https://www.eja-aalen.de/medien/kalender/icalrepeat.detail/202
 5/08/25/1081/-/lkb?tmpl=component</a>DTSTAMP:20260425T160638
DTSTART;VALUE=DATE:20250825
DTEND;VALUE=DATE:20250906
SEQUENCE:0
TRANSP:OPAQUE
END:VEVENT
END:VCALENDAR