BEGIN:VCALENDAR
VERSION:2.0
PRODID:-//jEvents 2.0 for Joomla//EN
CALSCALE:GREGORIAN
METHOD:PUBLISH
BEGIN:VEVENT
UID:373fa59bfed229614d8f72d6496f260a
CATEGORIES:Schulungen
CREATED:20250515T175849
SUMMARY:Erste Hilfe Kurs 1
URL;VALUE=URI:https://www.eja-aalen.de/medien/kalender/icalrepeat.detail/2025/04/12/1084/
 -/erste-hilfe-kurs-1?tmpl=component
DESCRIPTION:<p>Bopfingen</p> <a href="https://www.eja-aalen.de/medien/kalender/icalrepe
 at.detail/2025/04/12/1084/-/erste-hilfe-kurs-1?tmpl=component">Dieser Event
  wurde importiert von: https://www.eja-aalen.de/medien/kalender/icalrepeat.
 detail/2025/04/12/1084/-/erste-hilfe-kurs-1?tmpl=component</a>DTSTAMP:20260425T135347
DTSTART:20250412T083000
DTEND:20250412T163000
SEQUENCE:0
TRANSP:OPAQUE
END:VEVENT
END:VCALENDAR