BEGIN:VCALENDAR
VERSION:2.0
PRODID:-//jEvents 2.0 for Joomla//EN
CALSCALE:GREGORIAN
METHOD:PUBLISH
BEGIN:VEVENT
UID:388842e41ef005fbec4aa88380749870
CATEGORIES:Schulungen
CREATED:20250715T145327
SUMMARY:Workshop Wonderland
LOCATION:Speratushaus\, Ellwangen
URL;VALUE=URI:https://www.eja-aalen.de/medien/kalender/icalrepeat.detail/2025/10/18/1085/
 -/workshop-wonderland?tmpl=component
DESCRIPTION: <a href="https://www.eja-aalen.de/medien/kalender/icalrepeat.detail/2025/1
 0/18/1085/-/workshop-wonderland?tmpl=component">Dieser Event wurde importie
 rt von: https://www.eja-aalen.de/medien/kalender/icalrepeat.detail/2025/10/
 18/1085/-/workshop-wonderland?tmpl=component</a>DTSTAMP:20260425T135350
DTSTART:20251018T093000
DTEND:20251018T153000
SEQUENCE:0
TRANSP:OPAQUE
END:VEVENT
END:VCALENDAR