BEGIN:VCALENDAR
VERSION:2.0
PRODID:-//jEvents 2.0 for Joomla//EN
CALSCALE:GREGORIAN
METHOD:PUBLISH
BEGIN:VEVENT
UID:9d9c412a03ded480c809c8b76f8d2e48
CATEGORIES:Schulungen
CREATED:20250715T145449
SUMMARY:Erste Hilfe Kurs 3
LOCATION:Speratushaus\, Ellwangen
URL;VALUE=URI:https://www.eja-aalen.de/medien/kalender/icalrepeat.detail/2025/11/15/1086/
 -/erste-hilfe-kurs-3?tmpl=component
DESCRIPTION: <a href="https://www.eja-aalen.de/medien/kalender/icalrepeat.detail/2025/1
 1/15/1086/-/erste-hilfe-kurs-3?tmpl=component">Dieser Event wurde importier
 t von: https://www.eja-aalen.de/medien/kalender/icalrepeat.detail/2025/11/1
 5/1086/-/erste-hilfe-kurs-3?tmpl=component</a>DTSTAMP:20260422T233649
DTSTART:20251115T083000
DTEND:20251115T163000
SEQUENCE:0
TRANSP:OPAQUE
END:VEVENT
END:VCALENDAR