BEGIN:VCALENDAR
VERSION:2.0
PRODID:-//jEvents 2.0 for Joomla//EN
CALSCALE:GREGORIAN
METHOD:PUBLISH
BEGIN:VEVENT
UID:34d6d0899832bd925e5c8d8ac2fc1d7e
CATEGORIES:Veranstaltungen
CREATED:20251204T161959
SUMMARY:Konficamp
LOCATION:Stockensägmühle Ellwangen
URL;VALUE=URI:https://www.eja-aalen.de/medien/kalender/icalrepeat.detail/2026/07/10/1092/
 -/konficamp?tmpl=component
DESCRIPTION: Dieser Event wurde importiert von: https://www.eja-aalen.de/medien/kalende
 r/icalrepeat.detail/2026/07/10/1092/-/konficamp?tmpl=component
X-ALT-DESC;FMTTYPE=text/html: <a href="https://www.eja-aalen.de/medien/kalender/icalrepeat.detail/2026/0
 7/10/1092/-/konficamp?tmpl=component">Dieser Event wurde importiert von: ht
 tps://www.eja-aalen.de/medien/kalender/icalrepeat.detail/2026/07/10/1092/-/
 konficamp?tmpl=component</a>CONTACT:Verena Gemperlein
DTSTAMP:20260424T192936
DTSTART;VALUE=DATE:20260710
DTEND;VALUE=DATE:20260713
SEQUENCE:0
TRANSP:OPAQUE
END:VEVENT
END:VCALENDAR