BEGIN:VCALENDAR
VERSION:2.0
PRODID:-//jEvents 2.0 for Joomla//EN
CALSCALE:GREGORIAN
METHOD:PUBLISH
BEGIN:VEVENT
UID:9d13a1d3a8b29fb474322678d49fcd9b
CATEGORIES:Veranstaltungen
CREATED:20251204T162746
SUMMARY:Orangenaktion
URL;VALUE=URI:https://www.eja-aalen.de/medien/kalender/icalrepeat.detail/2026/11/27/1102/
 -/orangenaktion?tmpl=component
DESCRIPTION: Dieser Event wurde importiert von: https://www.eja-aalen.de/medien/kalende
 r/icalrepeat.detail/2026/11/27/1102/-/orangenaktion?tmpl=component
X-ALT-DESC;FMTTYPE=text/html: <a href="https://www.eja-aalen.de/medien/kalender/icalrepeat.detail/2026/1
 1/27/1102/-/orangenaktion?tmpl=component">Dieser Event wurde importiert von
 : https://www.eja-aalen.de/medien/kalender/icalrepeat.detail/2026/11/27/110
 2/-/orangenaktion?tmpl=component</a>CONTACT:Diese E-Mail-Adresse ist vor Spambots geschützt! Zur Anzeige muss JavaScript eingeschaltet sein!
				document.getElementById('cloak7fbd8a5bc507d7809889390399cc6b41').innerHTML = '';
				var prefix = '&#109;a' + 'i&#108;' + '&#116;o';
				var path = 'hr' + 'ef' + '=';
				var addy7fbd8a5bc507d7809889390399cc6b41 = '&#111;r&#97;ng&#101;n&#97;kt&#105;&#111;n' + '&#64;';
				addy7fbd8a5bc507d7809889390399cc6b41 = addy7fbd8a5bc507d7809889390399cc6b41 + '&#101;j&#97;-&#97;&#97;l&#101;n' + '&#46;' + 'd&#101;';
				var addy_text7fbd8a5bc507d7809889390399cc6b41 = '&#111;r&#97;ng&#101;n&#97;kt&#105;&#111;n' + '&#64;' + '&#101;j&#97;-&#97;&#97;l&#101;n' + '&#46;' + 'd&#101;';document.getElementById('cloak7fbd8a5bc507d7809889390399cc6b41').innerHTML += '<a ' + path + '\'' + prefix + ':' + addy7fbd8a5bc507d7809889390399cc6b41 + '\'>'+addy_text7fbd8a5bc507d7809889390399cc6b41+'';
		
DTSTAMP:20260425T154137
DTSTART;VALUE=DATE:20261127
DTEND;VALUE=DATE:20261130
SEQUENCE:0
TRANSP:OPAQUE
END:VEVENT
END:VCALENDAR