BEGIN:VCALENDAR
VERSION:2.0
PRODID:-//jEvents 2.0 for Joomla//EN
CALSCALE:GREGORIAN
METHOD:PUBLISH
BEGIN:VEVENT
UID:4ca153492f2a1489d96f3565e818670c
CATEGORIES:Jugendgottesdienste
CREATED:20251204T163211
SUMMARY:re:CHARGE Gottesdienst
URL;VALUE=URI:https://www.eja-aalen.de/medien/kalender/icalrepeat.detail/2026/02/08/1106/
 -/re-charge-gottesdienst?tmpl=component
DESCRIPTION: Dieser Event wurde importiert von: https://www.eja-aalen.de/medien/kalende
 r/icalrepeat.detail/2026/02/08/1106/-/re-charge-gottesdienst?tmpl=component
X-ALT-DESC;FMTTYPE=text/html: <a href="https://www.eja-aalen.de/medien/kalender/icalrepeat.detail/2026/0
 2/08/1106/-/re-charge-gottesdienst?tmpl=component">Dieser Event wurde impor
 tiert von: https://www.eja-aalen.de/medien/kalender/icalrepeat.detail/2026/
 02/08/1106/-/re-charge-gottesdienst?tmpl=component</a>CONTACT:Kim-André Reusch; Lorena Mack
DTSTAMP:20260426T002212
DTSTART;VALUE=DATE:20260208
DTEND;VALUE=DATE:20260209
SEQUENCE:0
TRANSP:OPAQUE
END:VEVENT
END:VCALENDAR