BEGIN:VCALENDAR
VERSION:2.0
PRODID:-//jEvents 2.0 for Joomla//EN
CALSCALE:GREGORIAN
METHOD:PUBLISH
BEGIN:VEVENT
UID:bf791e7df04491cb234440e5e061b1ef
CATEGORIES:Abwesenheit Verena
CREATED:20180412T101904
SUMMARY:EJA Teilbesetzung
URL;VALUE=URI:https://www.eja-aalen.de/medien/kalender/icalrepeat.detail/2018/04/09/246/-
 /eja-teilbesetzung?tmpl=component
DESCRIPTION: Dieser Event wurde importiert von: https://www.eja-aalen.de/medien/kalende
 r/icalrepeat.detail/2018/04/09/246/-/eja-teilbesetzung?tmpl=component
X-ALT-DESC;FMTTYPE=text/html: <a href="https://www.eja-aalen.de/medien/kalender/icalrepeat.detail/2018/0
 4/09/246/-/eja-teilbesetzung?tmpl=component">Dieser Event wurde importiert 
 von: https://www.eja-aalen.de/medien/kalender/icalrepeat.detail/2018/04/09/
 246/-/eja-teilbesetzung?tmpl=component</a>DTSTAMP:20260425T154202
DTSTART:20180409T080000
DTEND:20180409T170000
SEQUENCE:0
TRANSP:OPAQUE
END:VEVENT
END:VCALENDAR