BEGIN:VCALENDAR
VERSION:2.0
PRODID:-//jEvents 2.0 for Joomla//EN
CALSCALE:GREGORIAN
METHOD:PUBLISH
BEGIN:VEVENT
UID:a998e27f2bfae1f854520f8e0ea20e4e
CATEGORIES:Abwesenheit Verena
CREATED:20180417T163912
SUMMARY:Büro erst ab 16.00h besetzt
URL;VALUE=URI:https://www.eja-aalen.de/medien/kalender/icalrepeat.detail/2018/04/18/259/-
 /buero-erst-ab-16-00h-besetzt?tmpl=component
DESCRIPTION: <a href="https://www.eja-aalen.de/medien/kalender/icalrepeat.detail/2018/0
 4/18/259/-/buero-erst-ab-16-00h-besetzt?tmpl=component">Dieser Event wurde 
 importiert von: https://www.eja-aalen.de/medien/kalender/icalrepeat.detail/
 2018/04/18/259/-/buero-erst-ab-16-00h-besetzt?tmpl=component</a>DTSTAMP:20260425T135345
DTSTART:20180418T080000
DTEND:20180418T160000
SEQUENCE:0
TRANSP:OPAQUE
END:VEVENT
END:VCALENDAR