BEGIN:VCALENDAR
VERSION:2.0
PRODID:-//jEvents 2.0 for Joomla//EN
CALSCALE:GREGORIAN
METHOD:PUBLISH
BEGIN:VEVENT
UID:ab34ecef39af74748ae66f2c3151d8dd
CATEGORIES:Abwesenheit Verena
CREATED:20180511T092457
SUMMARY:Teilbesetzung EJA
URL;VALUE=URI:https://www.eja-aalen.de/medien/kalender/icalrepeat.detail/2018/05/14/261/-
 /teilbesetzung-eja?tmpl=component
DESCRIPTION: Dieser Event wurde importiert von: https://www.eja-aalen.de/medien/kalende
 r/icalrepeat.detail/2018/05/14/261/-/teilbesetzung-eja?tmpl=component
X-ALT-DESC;FMTTYPE=text/html: <a href="https://www.eja-aalen.de/medien/kalender/icalrepeat.detail/2018/0
 5/14/261/-/teilbesetzung-eja?tmpl=component">Dieser Event wurde importiert 
 von: https://www.eja-aalen.de/medien/kalender/icalrepeat.detail/2018/05/14/
 261/-/teilbesetzung-eja?tmpl=component</a>DTSTAMP:20260425T192833
DTSTART;VALUE=DATE:20180514
DTEND;VALUE=DATE:20180515
SEQUENCE:0
TRANSP:OPAQUE
END:VEVENT
END:VCALENDAR