BEGIN:VCALENDAR
VERSION:2.0
PRODID:-//jEvents 2.0 for Joomla//EN
CALSCALE:GREGORIAN
METHOD:PUBLISH
BEGIN:VEVENT
UID:d5f6a459b9103e0e90b1a11a581daa9b
CATEGORIES:Sonstiges
CREATED:20180511T092814
SUMMARY:EJA unbesetzt
URL;VALUE=URI:https://www.eja-aalen.de/medien/kalender/icalrepeat.detail/2018/05/21/264/-
 /eja-unbesetzt?tmpl=component
DESCRIPTION: <a href="https://www.eja-aalen.de/medien/kalender/icalrepeat.detail/2018/0
 5/21/264/-/eja-unbesetzt?tmpl=component">Dieser Event wurde importiert von:
  https://www.eja-aalen.de/medien/kalender/icalrepeat.detail/2018/05/21/264/
 -/eja-unbesetzt?tmpl=component</a>DTSTAMP:20260425T125308
DTSTART;VALUE=DATE:20180521
DTEND;VALUE=DATE:20180522
SEQUENCE:0
TRANSP:OPAQUE
END:VEVENT
END:VCALENDAR