BEGIN:VCALENDAR
VERSION:2.0
PRODID:-//jEvents 2.0 for Joomla//EN
CALSCALE:GREGORIAN
METHOD:PUBLISH
BEGIN:VEVENT
UID:a3f7786dde8ca5953a88435dd4259649
CATEGORIES:Abwesenheit Elke
CREATED:20180511T093032
SUMMARY:EJA unbesetzt
URL;VALUE=URI:https://www.eja-aalen.de/medien/kalender/icalrepeat.detail/2018/05/28/267/-
 /eja-unbesetzt?tmpl=component
DESCRIPTION: Dieser Event wurde importiert von: https://www.eja-aalen.de/medien/kalende
 r/icalrepeat.detail/2018/05/28/267/-/eja-unbesetzt?tmpl=component
X-ALT-DESC;FMTTYPE=text/html: <a href="https://www.eja-aalen.de/medien/kalender/icalrepeat.detail/2018/0
 5/28/267/-/eja-unbesetzt?tmpl=component">Dieser Event wurde importiert von:
  https://www.eja-aalen.de/medien/kalender/icalrepeat.detail/2018/05/28/267/
 -/eja-unbesetzt?tmpl=component</a>DTSTAMP:20260425T192818
DTSTART;VALUE=DATE:20180528
DTEND;VALUE=DATE:20180529
SEQUENCE:0
TRANSP:OPAQUE
END:VEVENT
END:VCALENDAR