BEGIN:VCALENDAR
VERSION:2.0
PRODID:-//jEvents 2.0 for Joomla//EN
CALSCALE:GREGORIAN
METHOD:PUBLISH
BEGIN:VEVENT
UID:cb9fe09ea61d13a79a7d6a47173df189
CATEGORIES:Gremien
CREATED:20180511T093550
SUMMARY:Vorbereitungstreffen Grundkurs
URL;VALUE=URI:https://www.eja-aalen.de/medien/kalender/icalrepeat.detail/2018/06/14/270/-
 /vorbereitungstreffen-grundkurs?tmpl=component
DESCRIPTION: Dieser Event wurde importiert von: https://www.eja-aalen.de/medien/kalende
 r/icalrepeat.detail/2018/06/14/270/-/vorbereitungstreffen-grundkurs?tmpl=co
 mponent
X-ALT-DESC;FMTTYPE=text/html: <a href="https://www.eja-aalen.de/medien/kalender/icalrepeat.detail/2018/0
 6/14/270/-/vorbereitungstreffen-grundkurs?tmpl=component">Dieser Event wurd
 e importiert von: https://www.eja-aalen.de/medien/kalender/icalrepeat.detai
 l/2018/06/14/270/-/vorbereitungstreffen-grundkurs?tmpl=component</a>DTSTAMP:20260425T170625
DTSTART:20180614T180000
DTEND:20180614T200000
SEQUENCE:0
TRANSP:OPAQUE
END:VEVENT
END:VCALENDAR