BEGIN:VCALENDAR
VERSION:2.0
PRODID:-//jEvents 2.0 for Joomla//EN
CALSCALE:GREGORIAN
METHOD:PUBLISH
BEGIN:VEVENT
UID:d2e8e2ac4e659f5b50e72b07c507b73a
CATEGORIES:Abwesenheit Verena
CREATED:20180529T104253
SUMMARY:EJA Teilbesetzung
URL;VALUE=URI:https://www.eja-aalen.de/medien/kalender/icalrepeat.detail/2018/06/04/273/-
 /eja-teilbesetzung?tmpl=component
DESCRIPTION: <a href="https://www.eja-aalen.de/medien/kalender/icalrepeat.detail/2018/0
 6/04/273/-/eja-teilbesetzung?tmpl=component">Dieser Event wurde importiert 
 von: https://www.eja-aalen.de/medien/kalender/icalrepeat.detail/2018/06/04/
 273/-/eja-teilbesetzung?tmpl=component</a>DTSTAMP:20260425T143623
DTSTART:20180604T080000
SEQUENCE:0
TRANSP:OPAQUE
END:VEVENT
END:VCALENDAR