BEGIN:VCALENDAR
VERSION:2.0
PRODID:-//jEvents 2.0 for Joomla//EN
CALSCALE:GREGORIAN
METHOD:PUBLISH
BEGIN:VEVENT
UID:08d7b510e15e9f4f29447a3ef4695de5
CATEGORIES:Abwesenheit Verena
CREATED:20180529T104413
SUMMARY:EJA Teilbesetzung
URL;VALUE=URI:https://www.eja-aalen.de/medien/kalender/icalrepeat.detail/2018/06/18/275/-
 /eja-teilbesetzung?tmpl=component
DESCRIPTION: <a href="https://www.eja-aalen.de/medien/kalender/icalrepeat.detail/2018/0
 6/18/275/-/eja-teilbesetzung?tmpl=component">Dieser Event wurde importiert 
 von: https://www.eja-aalen.de/medien/kalender/icalrepeat.detail/2018/06/18/
 275/-/eja-teilbesetzung?tmpl=component</a>DTSTAMP:20260425T143614
DTSTART:20180618T080000
DTEND:20180618T170000
SEQUENCE:0
TRANSP:OPAQUE
END:VEVENT
END:VCALENDAR