BEGIN:VCALENDAR
VERSION:2.0
PRODID:-//jEvents 2.0 for Joomla//EN
CALSCALE:GREGORIAN
METHOD:PUBLISH
BEGIN:VEVENT
UID:accc140b361687b46a96443f58d3f206
CATEGORIES:Abwesenheit Verena
CREATED:20180808T110017
SUMMARY:Fortbildung - Aufbauausbildung Zentrum Diakonat
LOCATION:Ludwigsburg
URL;VALUE=URI:https://www.eja-aalen.de/medien/kalender/icalrepeat.detail/2018/12/03/303/-
 /fortbildung-aufbauausbildung-zentrum-diakonat?tmpl=component
DESCRIPTION: <a href="https://www.eja-aalen.de/medien/kalender/icalrepeat.detail/2018/1
 2/03/303/-/fortbildung-aufbauausbildung-zentrum-diakonat?tmpl=component">Di
 eser Event wurde importiert von: https://www.eja-aalen.de/medien/kalender/i
 calrepeat.detail/2018/12/03/303/-/fortbildung-aufbauausbildung-zentrum-diak
 onat?tmpl=component</a>DTSTAMP:20260425T205108
DTSTART:20181203T080000
DTEND:20181207T170000
SEQUENCE:0
TRANSP:OPAQUE
END:VEVENT
END:VCALENDAR