BEGIN:VCALENDAR
VERSION:2.0
PRODID:-//jEvents 2.0 for Joomla//EN
CALSCALE:GREGORIAN
METHOD:PUBLISH
BEGIN:VEVENT
UID:a0ffbbb4bfca18d96138ea35983ea102
CATEGORIES:Jugendgottesdienste
CREATED:20180925T091941
SUMMARY:Konfi-Cup-Jugendgottesdienst in Ebnat
URL;VALUE=URI:https://www.eja-aalen.de/medien/kalender/icalrepeat.detail/2018/10/12/312/-
 /konfi-cup-jugendgottesdienst-in-ebnat?tmpl=component
DESCRIPTION:Mit Einsegnung von Alexander Blümel\n Dieser Event wurde importiert von: ht
 tps://www.eja-aalen.de/medien/kalender/icalrepeat.detail/2018/10/12/312/-/k
 onfi-cup-jugendgottesdienst-in-ebnat?tmpl=component
X-ALT-DESC;FMTTYPE=text/html:<p>Mit Einsegnung von Alexander Bl&uuml;mel</p> <a href="https://www.eja-aa
 len.de/medien/kalender/icalrepeat.detail/2018/10/12/312/-/konfi-cup-jugendg
 ottesdienst-in-ebnat?tmpl=component">Dieser Event wurde importiert von: htt
 ps://www.eja-aalen.de/medien/kalender/icalrepeat.detail/2018/10/12/312/-/ko
 nfi-cup-jugendgottesdienst-in-ebnat?tmpl=component</a>DTSTAMP:20260426T002112
DTSTART:20181012T180000
DTEND:20181012T193000
SEQUENCE:0
TRANSP:OPAQUE
END:VEVENT
END:VCALENDAR