BEGIN:VCALENDAR
VERSION:2.0
PRODID:-//jEvents 2.0 for Joomla//EN
CALSCALE:GREGORIAN
METHOD:PUBLISH
BEGIN:VEVENT
UID:e65bc5d0fd1ae0f88afb354194038114
CATEGORIES:Abwesenheit Elke
CREATED:20181220T133316
SUMMARY:EJA Teilbesetzung
URL;VALUE=URI:https://www.eja-aalen.de/medien/kalender/icalrepeat.detail/2018/12/27/347/-
 /eja-teilbesetzung?tmpl=component
DESCRIPTION: <a href="https://www.eja-aalen.de/medien/kalender/icalrepeat.detail/2018/1
 2/27/347/-/eja-teilbesetzung?tmpl=component">Dieser Event wurde importiert 
 von: https://www.eja-aalen.de/medien/kalender/icalrepeat.detail/2018/12/27/
 347/-/eja-teilbesetzung?tmpl=component</a>DTSTAMP:20260423T014833
DTSTART;VALUE=DATE:20181227
DTEND;VALUE=DATE:20190112
SEQUENCE:0
TRANSP:OPAQUE
END:VEVENT
END:VCALENDAR