BEGIN:VCALENDAR
VERSION:2.0
PRODID:-//jEvents 2.0 for Joomla//EN
CALSCALE:GREGORIAN
METHOD:PUBLISH
BEGIN:VEVENT
UID:b34cf7d5062f495cff5a3aa01cb66ad0
CATEGORIES:Abwesenheit Verena
CREATED:20190319T103006
SUMMARY:EJA Teilbesetzung
URL;VALUE=URI:https://www.eja-aalen.de/medien/kalender/icalrepeat.detail/2019/03/20/397/-
 /eja-teilbesetzung?tmpl=component
DESCRIPTION: Dieser Event wurde importiert von: https://www.eja-aalen.de/medien/kalende
 r/icalrepeat.detail/2019/03/20/397/-/eja-teilbesetzung?tmpl=component
X-ALT-DESC;FMTTYPE=text/html: <a href="https://www.eja-aalen.de/medien/kalender/icalrepeat.detail/2019/0
 3/20/397/-/eja-teilbesetzung?tmpl=component">Dieser Event wurde importiert 
 von: https://www.eja-aalen.de/medien/kalender/icalrepeat.detail/2019/03/20/
 397/-/eja-teilbesetzung?tmpl=component</a>DTSTAMP:20260425T170634
DTSTART:20190320T080000
DTEND:20190320T170000
SEQUENCE:0
TRANSP:OPAQUE
END:VEVENT
END:VCALENDAR