BEGIN:VCALENDAR
VERSION:2.0
PRODID:-//jEvents 2.0 for Joomla//EN
CALSCALE:GREGORIAN
METHOD:PUBLISH
BEGIN:VEVENT
UID:746ad51a0de372f5cc8881dd1e567cce
CATEGORIES:Gremien
CREATED:20190319T103544
SUMMARY:Regionentreffen - der Jugendreferenten
LOCATION:ev. Gemeindehaus Aalen - Friedhofstr. 5
URL;VALUE=URI:https://www.eja-aalen.de/medien/kalender/icalrepeat.detail/2019/04/10/401/-
 /regionentreffen-der-jugendreferenten?tmpl=component
DESCRIPTION: <a href="https://www.eja-aalen.de/medien/kalender/icalrepeat.detail/2019/0
 4/10/401/-/regionentreffen-der-jugendreferenten?tmpl=component">Dieser Even
 t wurde importiert von: https://www.eja-aalen.de/medien/kalender/icalrepeat
 .detail/2019/04/10/401/-/regionentreffen-der-jugendreferenten?tmpl=componen
 t</a>DTSTAMP:20260422T222836
DTSTART:20190410T090000
DTEND:20190410T120000
SEQUENCE:0
TRANSP:OPAQUE
END:VEVENT
END:VCALENDAR