BEGIN:VCALENDAR
VERSION:2.0
PRODID:-//jEvents 2.0 for Joomla//EN
CALSCALE:GREGORIAN
METHOD:PUBLISH
BEGIN:VEVENT
UID:40d4e25d727b324ac8f916b15feb6b59
CATEGORIES:Abwesenheit Elke
CREATED:19700101T000000
SUMMARY:EJA Teilbesetzung
URL;VALUE=URI:https://www.eja-aalen.de/medien/kalender/icalrepeat.detail/2019/04/11/408/-
 /eja-teilbesetzung?tmpl=component
DESCRIPTION: Dieser Event wurde importiert von: https://www.eja-aalen.de/medien/kalende
 r/icalrepeat.detail/2019/04/11/408/-/eja-teilbesetzung?tmpl=component
X-ALT-DESC;FMTTYPE=text/html: <a href="https://www.eja-aalen.de/medien/kalender/icalrepeat.detail/2019/0
 4/11/408/-/eja-teilbesetzung?tmpl=component">Dieser Event wurde importiert 
 von: https://www.eja-aalen.de/medien/kalender/icalrepeat.detail/2019/04/11/
 408/-/eja-teilbesetzung?tmpl=component</a>DTSTAMP:20260425T154212
DTSTART;VALUE=DATE:20190411
DTEND;VALUE=DATE:20190412
SEQUENCE:0
RRULE:FREQ=WEEKLY;UNTIL=20190501T000000Z;INTERVAL=3;BYDAY=MO,TH
TRANSP:OPAQUE
END:VEVENT
END:VCALENDAR