BEGIN:VCALENDAR
VERSION:2.0
PRODID:-//jEvents 2.0 for Joomla//EN
CALSCALE:GREGORIAN
METHOD:PUBLISH
BEGIN:VEVENT
UID:33474de9981708fe402242c3180ca816
CATEGORIES:Abwesenheit Elke
CREATED:20190411T153531
SUMMARY:Teilbesetzung EJA
URL;VALUE=URI:https://www.eja-aalen.de/medien/kalender/icalrepeat.detail/2019/04/25/414/-
 /teilbesetzung-eja?tmpl=component
DESCRIPTION: Dieser Event wurde importiert von: https://www.eja-aalen.de/medien/kalende
 r/icalrepeat.detail/2019/04/25/414/-/teilbesetzung-eja?tmpl=component
X-ALT-DESC;FMTTYPE=text/html: <a href="https://www.eja-aalen.de/medien/kalender/icalrepeat.detail/2019/0
 4/25/414/-/teilbesetzung-eja?tmpl=component">Dieser Event wurde importiert 
 von: https://www.eja-aalen.de/medien/kalender/icalrepeat.detail/2019/04/25/
 414/-/teilbesetzung-eja?tmpl=component</a>DTSTAMP:20260426T040813
DTSTART;VALUE=DATE:20190425
DTEND;VALUE=DATE:20190426
SEQUENCE:0
TRANSP:OPAQUE
END:VEVENT
END:VCALENDAR