BEGIN:VCALENDAR
VERSION:2.0
PRODID:-//jEvents 2.0 for Joomla//EN
CALSCALE:GREGORIAN
METHOD:PUBLISH
BEGIN:VEVENT
UID:76c9f2a4a352803a57ef4b714b877eef
CATEGORIES:Schulungen
CREATED:20190603T121134
SUMMARY:Grundkurs in Münchsteinach - abgesagt!
URL;VALUE=URI:https://www.eja-aalen.de/medien/kalender/icalrepeat.detail/2020/10/23/423/-
 /grundkurs-in-muenchsteinach-abgesagt?tmpl=component
DESCRIPTION: Dieser Event wurde importiert von: https://www.eja-aalen.de/medien/kalende
 r/icalrepeat.detail/2020/10/23/423/-/grundkurs-in-muenchsteinach-abgesagt?t
 mpl=component
X-ALT-DESC;FMTTYPE=text/html: <a href="https://www.eja-aalen.de/medien/kalender/icalrepeat.detail/2020/1
 0/23/423/-/grundkurs-in-muenchsteinach-abgesagt?tmpl=component">Dieser Even
 t wurde importiert von: https://www.eja-aalen.de/medien/kalender/icalrepeat
 .detail/2020/10/23/423/-/grundkurs-in-muenchsteinach-abgesagt?tmpl=componen
 t</a>DTSTAMP:20260426T022419
DTSTART;VALUE=DATE:20201023
DTEND;VALUE=DATE:20201029
SEQUENCE:0
TRANSP:OPAQUE
END:VEVENT
END:VCALENDAR