BEGIN:VCALENDAR
VERSION:2.0
PRODID:-//jEvents 2.0 for Joomla//EN
CALSCALE:GREGORIAN
METHOD:PUBLISH
BEGIN:VEVENT
UID:a0d2b0d1d0b2fb411d042ebeee7f1965
CATEGORIES:Freizeiten
CREATED:20190717T082421
SUMMARY:Mädchenzeltlager - MZL 2020
LOCATION:Stockensägmühle Ellwangen
URL;VALUE=URI:https://www.eja-aalen.de/medien/kalender/icalrepeat.detail/2020/08/10/428/-
 /maedchenzeltlager-mzl-2020?tmpl=component
DESCRIPTION:Start am 10.08.2020 um 14:30 Uhr\noffenes Ende am 19.08.2020 nach gem. Absc
 hlussgottesdienst &amp; Essen\n Dieser Event wurde importiert von: https://
 www.eja-aalen.de/medien/kalender/icalrepeat.detail/2020/08/10/428/-/maedche
 nzeltlager-mzl-2020?tmpl=component
X-ALT-DESC;FMTTYPE=text/html:<p>Start am 10.08.2020 um 14:30 Uhr</p><p>offenes Ende am 19.08.2020 nach g
 em. Abschlussgottesdienst &amp; Essen</p> <a href="https://www.eja-aalen.de
 /medien/kalender/icalrepeat.detail/2020/08/10/428/-/maedchenzeltlager-mzl-2
 020?tmpl=component">Dieser Event wurde importiert von: https://www.eja-aale
 n.de/medien/kalender/icalrepeat.detail/2020/08/10/428/-/maedchenzeltlager-m
 zl-2020?tmpl=component</a>CONTACT:Diese E-Mail-Adresse ist vor Spambots geschützt! Zur Anzeige muss JavaScript eingeschaltet sein!
				document.getElementById('cloakbdb91e46dac612df2545e14abf046d2c').innerHTML = '';
				var prefix = '&#109;a' + 'i&#108;' + '&#116;o';
				var path = 'hr' + 'ef' + '=';
				var addybdb91e46dac612df2545e14abf046d2c = '&#101;j&#97;' + '&#64;';
				addybdb91e46dac612df2545e14abf046d2c = addybdb91e46dac612df2545e14abf046d2c + '&#101;j&#97;-&#97;&#97;l&#101;n' + '&#46;' + 'd&#101;';
				var addy_textbdb91e46dac612df2545e14abf046d2c = '&#101;j&#97;' + '&#64;' + '&#101;j&#97;-&#97;&#97;l&#101;n' + '&#46;' + 'd&#101;';document.getElementById('cloakbdb91e46dac612df2545e14abf046d2c').innerHTML += '<a ' + path + '\'' + prefix + ':' + addybdb91e46dac612df2545e14abf046d2c + '\'>'+addy_textbdb91e46dac612df2545e14abf046d2c+'';
		 und Diese E-Mail-Adresse ist vor Spambots geschützt! Zur Anzeige muss JavaScript eingeschaltet sein!
				document.getElementById('cloak35b7f98bba58cd1e9c6e1566b916b3ff').innerHTML = '';
				var prefix = '&#109;a' + 'i&#108;' + '&#116;o';
				var path = 'hr' + 'ef' + '=';
				var addy35b7f98bba58cd1e9c6e1566b916b3ff = 'mzl' + '&#64;';
				addy35b7f98bba58cd1e9c6e1566b916b3ff = addy35b7f98bba58cd1e9c6e1566b916b3ff + '&#101;j&#97;-&#97;&#97;l&#101;n' + '&#46;' + 'd&#101;';
				var addy_text35b7f98bba58cd1e9c6e1566b916b3ff = 'mzl' + '&#64;' + '&#101;j&#97;-&#97;&#97;l&#101;n' + '&#46;' + 'd&#101;';document.getElementById('cloak35b7f98bba58cd1e9c6e1566b916b3ff').innerHTML += '<a ' + path + '\'' + prefix + ':' + addy35b7f98bba58cd1e9c6e1566b916b3ff + '\'>'+addy_text35b7f98bba58cd1e9c6e1566b916b3ff+'';
		
DTSTAMP:20260424T155513
DTSTART;VALUE=DATE:20200810
DTEND;VALUE=DATE:20200820
SEQUENCE:0
TRANSP:OPAQUE
END:VEVENT
END:VCALENDAR