BEGIN:VCALENDAR
VERSION:2.0
PRODID:-//jEvents 2.0 for Joomla//EN
CALSCALE:GREGORIAN
METHOD:PUBLISH
BEGIN:VEVENT
UID:ac4cf94bd639a4823d7befdb2b30bd63
CATEGORIES:Abwesenheit Verena
CREATED:20190717T083724
SUMMARY:EJA Teilbesetzung - Diakon. Aufbauausbildung
LOCATION:ZD Ludwigsburg
URL;VALUE=URI:https://www.eja-aalen.de/medien/kalender/icalrepeat.detail/2020/03/16/434/-
 /eja-teilbesetzung-diakon-aufbauausbildung?tmpl=component
DESCRIPTION:<p>Kirche &amp; Gesellschaft</p> <a href="https://www.eja-aalen.de/medien/k
 alender/icalrepeat.detail/2020/03/16/434/-/eja-teilbesetzung-diakon-aufbaua
 usbildung?tmpl=component">Dieser Event wurde importiert von: https://www.ej
 a-aalen.de/medien/kalender/icalrepeat.detail/2020/03/16/434/-/eja-teilbeset
 zung-diakon-aufbauausbildung?tmpl=component</a>DTSTAMP:20260421T122932
DTSTART;VALUE=DATE:20200316
DTEND;VALUE=DATE:20200321
SEQUENCE:0
TRANSP:OPAQUE
END:VEVENT
END:VCALENDAR