BEGIN:VCALENDAR
VERSION:2.0
PRODID:-//jEvents 2.0 for Joomla//EN
CALSCALE:GREGORIAN
METHOD:PUBLISH
BEGIN:VEVENT
UID:b69129cc2efe007b1c192c6cc5259615
CATEGORIES:Abwesenheit Verena
CREATED:20190820T141901
SUMMARY:Teilbesetzung EJA - Verena auf LKB
URL;VALUE=URI:https://www.eja-aalen.de/medien/kalender/icalrepeat.detail/2019/08/29/458/-
 /teilbesetzung-eja-verena-auf-lkb?tmpl=component
DESCRIPTION: Dieser Event wurde importiert von: https://www.eja-aalen.de/medien/kalende
 r/icalrepeat.detail/2019/08/29/458/-/teilbesetzung-eja-verena-auf-lkb?tmpl=
 component
X-ALT-DESC;FMTTYPE=text/html: <a href="https://www.eja-aalen.de/medien/kalender/icalrepeat.detail/2019/0
 8/29/458/-/teilbesetzung-eja-verena-auf-lkb?tmpl=component">Dieser Event wu
 rde importiert von: https://www.eja-aalen.de/medien/kalender/icalrepeat.det
 ail/2019/08/29/458/-/teilbesetzung-eja-verena-auf-lkb?tmpl=component</a>DTSTAMP:20260424T235555
DTSTART;VALUE=DATE:20190829
DTEND;VALUE=DATE:20190901
SEQUENCE:0
TRANSP:OPAQUE
END:VEVENT
END:VCALENDAR