BEGIN:VCALENDAR
VERSION:2.0
PRODID:-//jEvents 2.0 for Joomla//EN
CALSCALE:GREGORIAN
METHOD:PUBLISH
BEGIN:VEVENT
UID:9bcc44f8b5d52146c18b77587fe24968
CATEGORIES:Abwesenheit Verena
CREATED:20190826T101427
SUMMARY:Teilbesetzung EJA - Diakonische Ausbildung
URL;VALUE=URI:https://www.eja-aalen.de/medien/kalender/icalrepeat.detail/2019/10/17/468/-
 /teilbesetzung-eja-diakonische-ausbildung?tmpl=component
DESCRIPTION: Dieser Event wurde importiert von: https://www.eja-aalen.de/medien/kalende
 r/icalrepeat.detail/2019/10/17/468/-/teilbesetzung-eja-diakonische-ausbildu
 ng?tmpl=component
X-ALT-DESC;FMTTYPE=text/html: <a href="https://www.eja-aalen.de/medien/kalender/icalrepeat.detail/2019/1
 0/17/468/-/teilbesetzung-eja-diakonische-ausbildung?tmpl=component">Dieser 
 Event wurde importiert von: https://www.eja-aalen.de/medien/kalender/icalre
 peat.detail/2019/10/17/468/-/teilbesetzung-eja-diakonische-ausbildung?tmpl=
 component</a>DTSTAMP:20260426T022354
DTSTART;VALUE=DATE:20191017
DTEND;VALUE=DATE:20191018
SEQUENCE:0
TRANSP:OPAQUE
END:VEVENT
END:VCALENDAR