BEGIN:VCALENDAR
VERSION:2.0
PRODID:-//jEvents 2.0 for Joomla//EN
CALSCALE:GREGORIAN
METHOD:PUBLISH
BEGIN:VEVENT
UID:b580e226307b6343eec5bc7cd8a21e56
CATEGORIES:Jugendgottesdienste
CREATED:20190919T145911
SUMMARY:ZAGG-Jugendgottesdienst ev. Gemeindehaus Aalen
URL;VALUE=URI:https://www.eja-aalen.de/medien/kalender/icalrepeat.detail/2019/12/15/475/-
 /zagg-jugendgottesdienst-ev-gemeindehaus-aalen?tmpl=component
DESCRIPTION: Dieser Event wurde importiert von: https://www.eja-aalen.de/medien/kalende
 r/icalrepeat.detail/2019/12/15/475/-/zagg-jugendgottesdienst-ev-gemeindehau
 s-aalen?tmpl=component
X-ALT-DESC;FMTTYPE=text/html: <a href="https://www.eja-aalen.de/medien/kalender/icalrepeat.detail/2019/1
 2/15/475/-/zagg-jugendgottesdienst-ev-gemeindehaus-aalen?tmpl=component">Di
 eser Event wurde importiert von: https://www.eja-aalen.de/medien/kalender/i
 calrepeat.detail/2019/12/15/475/-/zagg-jugendgottesdienst-ev-gemeindehaus-a
 alen?tmpl=component</a>DTSTAMP:20260426T022444
DTSTART:20191215T180000
SEQUENCE:0
TRANSP:OPAQUE
END:VEVENT
END:VCALENDAR