BEGIN:VCALENDAR
VERSION:2.0
PRODID:-//jEvents 2.0 for Joomla//EN
CALSCALE:GREGORIAN
METHOD:PUBLISH
BEGIN:VEVENT
UID:f5a936510c14ff27d0f8057bcc205f66
CATEGORIES:Jugendgottesdienste
CREATED:20191015T115502
SUMMARY:ZAGG-Jugendgottesdienst ev. Gemeindehaus Aalen
URL;VALUE=URI:https://www.eja-aalen.de/medien/kalender/icalrepeat.detail/2020/05/17/483/-
 /zagg-jugendgottesdienst-ev-gemeindehaus-aalen?tmpl=component
DESCRIPTION: <a href="https://www.eja-aalen.de/medien/kalender/icalrepeat.detail/2020/0
 5/17/483/-/zagg-jugendgottesdienst-ev-gemeindehaus-aalen?tmpl=component">Di
 eser Event wurde importiert von: https://www.eja-aalen.de/medien/kalender/i
 calrepeat.detail/2020/05/17/483/-/zagg-jugendgottesdienst-ev-gemeindehaus-a
 alen?tmpl=component</a>DTSTAMP:20260424T100417
DTSTART:20200517T180000
SEQUENCE:0
TRANSP:OPAQUE
END:VEVENT
END:VCALENDAR