BEGIN:VCALENDAR
VERSION:2.0
PRODID:-//jEvents 2.0 for Joomla//EN
CALSCALE:GREGORIAN
METHOD:PUBLISH
BEGIN:VEVENT
UID:13a8897bb6b1413c7e94ec736e06252c
CATEGORIES:Jugendgottesdienste
CREATED:20191015T115536
SUMMARY:ZAGG-Jugendgottesdienst ev. Gemeindehaus Aalen
URL;VALUE=URI:https://www.eja-aalen.de/medien/kalender/icalrepeat.detail/2020/07/05/484/-
 /zagg-jugendgottesdienst-ev-gemeindehaus-aalen?tmpl=component
DESCRIPTION: <a href="https://www.eja-aalen.de/medien/kalender/icalrepeat.detail/2020/0
 7/05/484/-/zagg-jugendgottesdienst-ev-gemeindehaus-aalen?tmpl=component">Di
 eser Event wurde importiert von: https://www.eja-aalen.de/medien/kalender/i
 calrepeat.detail/2020/07/05/484/-/zagg-jugendgottesdienst-ev-gemeindehaus-a
 alen?tmpl=component</a>DTSTAMP:20260425T135348
DTSTART:20200705T180000
SEQUENCE:0
TRANSP:OPAQUE
END:VEVENT
END:VCALENDAR