BEGIN:VCALENDAR
VERSION:2.0
PRODID:-//jEvents 2.0 for Joomla//EN
CALSCALE:GREGORIAN
METHOD:PUBLISH
BEGIN:VEVENT
UID:77730d25187e7ef1767f5b13408c1179
CATEGORIES:Freizeiten
CREATED:19700101T000000
SUMMARY:Landkinderbetreuung Trochtelfingen 2020
LOCATION:altes Pfarrhaus Trochtelfingen
URL;VALUE=URI:https://www.eja-aalen.de/medien/kalender/icalrepeat.detail/2020/08/31/509/-
 /landkinderbetreuung-trochtelfingen-2020?tmpl=component
DESCRIPTION:Start: am 24. August 2020 wie üblich um 13:30 Uhr (tägliche Startzeit, Ende
  idR. um 18:00 Uhr)\nAbschluss: am 04. September 2020 nach dem gem. Abschlu
 ssgottesdienst &amp; Essen bzw. Festle\n Dieser Event wurde importiert von:
  https://www.eja-aalen.de/medien/kalender/icalrepeat.detail/2020/08/31/509/
 -/landkinderbetreuung-trochtelfingen-2020?tmpl=component
X-ALT-DESC;FMTTYPE=text/html:<p>Start: am 24. August 2020 wie &uuml;blich um 13:30 Uhr (t&auml;gliche St
 artzeit, Ende idR. um 18:00 Uhr)</p><p>Abschluss: am 04. September 2020 nac
 h dem gem. Abschlussgottesdienst &amp; Essen bzw. Festle</p> <a href="https
 ://www.eja-aalen.de/medien/kalender/icalrepeat.detail/2020/08/31/509/-/land
 kinderbetreuung-trochtelfingen-2020?tmpl=component">Dieser Event wurde impo
 rtiert von: https://www.eja-aalen.de/medien/kalender/icalrepeat.detail/2020
 /08/31/509/-/landkinderbetreuung-trochtelfingen-2020?tmpl=component</a>CONTACT:eja@eja-aalen.de
DTSTAMP:20260425T132002
DTSTART:20200831T080000
DTEND:20200904T180000
SEQUENCE:0
RRULE:FREQ=WEEKLY;UNTIL=20200904T000000Z;INTERVAL=2;BYDAY=MO
TRANSP:OPAQUE
END:VEVENT
END:VCALENDAR