BEGIN:VCALENDAR
VERSION:2.0
PRODID:-//jEvents 2.0 for Joomla//EN
CALSCALE:GREGORIAN
METHOD:PUBLISH
BEGIN:VEVENT
UID:e2ae39e7268679541a6e822ad570c71b
CATEGORIES:Region Süd Vakant
CREATED:20191217T102939
SUMMARY:Teilbesetzung EJA
URL;VALUE=URI:https://www.eja-aalen.de/medien/kalender/icalrepeat.detail/2019/12/19/536/-
 /teilbesetzung-eja?tmpl=component
DESCRIPTION: Dieser Event wurde importiert von: https://www.eja-aalen.de/medien/kalende
 r/icalrepeat.detail/2019/12/19/536/-/teilbesetzung-eja?tmpl=component
X-ALT-DESC;FMTTYPE=text/html: <a href="https://www.eja-aalen.de/medien/kalender/icalrepeat.detail/2019/1
 2/19/536/-/teilbesetzung-eja?tmpl=component">Dieser Event wurde importiert 
 von: https://www.eja-aalen.de/medien/kalender/icalrepeat.detail/2019/12/19/
 536/-/teilbesetzung-eja?tmpl=component</a>DTSTAMP:20260426T022404
DTSTART;VALUE=DATE:20191219
DTEND;VALUE=DATE:20200102
SEQUENCE:0
TRANSP:OPAQUE
END:VEVENT
END:VCALENDAR