BEGIN:VCALENDAR
VERSION:2.0
PRODID:-//jEvents 2.0 for Joomla//EN
CALSCALE:GREGORIAN
METHOD:PUBLISH
BEGIN:VEVENT
UID:70210f63d83821fabcbf2bd3eb1fcbb5
CATEGORIES:Abwesenheit Verena
CREATED:20200109T084516
SUMMARY:Teilbesetzung EJA
URL;VALUE=URI:https://www.eja-aalen.de/medien/kalender/icalrepeat.detail/2020/02/05/545/-
 /teilbesetzung-eja?tmpl=component
DESCRIPTION: <a href="https://www.eja-aalen.de/medien/kalender/icalrepeat.detail/2020/0
 2/05/545/-/teilbesetzung-eja?tmpl=component">Dieser Event wurde importiert 
 von: https://www.eja-aalen.de/medien/kalender/icalrepeat.detail/2020/02/05/
 545/-/teilbesetzung-eja?tmpl=component</a>DTSTAMP:20260425T125313
DTSTART;VALUE=DATE:20200205
DTEND;VALUE=DATE:20200206
SEQUENCE:0
TRANSP:OPAQUE
END:VEVENT
END:VCALENDAR