BEGIN:VCALENDAR
VERSION:2.0
PRODID:-//jEvents 2.0 for Joomla//EN
CALSCALE:GREGORIAN
METHOD:PUBLISH
BEGIN:VEVENT
UID:03bf1eb85feaf5614e4c0fc4f5fce1fa
CATEGORIES:Abwesenheit Verena
CREATED:20200109T092541
SUMMARY:Teilbesetzung EJA
URL;VALUE=URI:https://www.eja-aalen.de/medien/kalender/icalrepeat.detail/2020/03/04/554/-
 /teilbesetzung-eja?tmpl=component
DESCRIPTION:Fortbildungsbesuch Fachstelle Gottesdienst\n Dieser Event wurde importiert 
 von: https://www.eja-aalen.de/medien/kalender/icalrepeat.detail/2020/03/04/
 554/-/teilbesetzung-eja?tmpl=component (https://www.eja-aalen.de/medien/kal
 ender/icalrepeat.detail/2020/03/04/554/-/teilbesetzung-eja?tmpl=component)
X-ALT-DESC;FMTTYPE=text/html:<p>Fortbildungsbesuch Fachstelle Gottesdienst</p> <a href="https://www.eja-
 aalen.de/medien/kalender/icalrepeat.detail/2020/03/04/554/-/teilbesetzung-e
 ja?tmpl=component">Dieser Event wurde importiert von: https://www.eja-aalen
 .de/medien/kalender/icalrepeat.detail/2020/03/04/554/-/teilbesetzung-eja?tm
 pl=component</a>DTSTAMP:20260426T022434
DTSTART;VALUE=DATE:20200304
DTEND;VALUE=DATE:20200305
SEQUENCE:0
TRANSP:OPAQUE
END:VEVENT
END:VCALENDAR