BEGIN:VCALENDAR
VERSION:2.0
PRODID:-//jEvents 2.0 for Joomla//EN
CALSCALE:GREGORIAN
METHOD:PUBLISH
BEGIN:VEVENT
UID:4951b1ef6d23e5c14e784924b32ab441
CATEGORIES:Region Süd Vakant
CREATED:20200120T102132
SUMMARY:Teilbesetzung EJA (Fortbildung und Urlaub)
URL;VALUE=URI:https://www.eja-aalen.de/medien/kalender/icalrepeat.detail/2020/02/05/588/-
 /teilbesetzung-eja-fortbildung-und-urlaub?tmpl=component
DESCRIPTION: <a href="https://www.eja-aalen.de/medien/kalender/icalrepeat.detail/2020/0
 2/05/588/-/teilbesetzung-eja-fortbildung-und-urlaub?tmpl=component">Dieser 
 Event wurde importiert von: https://www.eja-aalen.de/medien/kalender/icalre
 peat.detail/2020/02/05/588/-/teilbesetzung-eja-fortbildung-und-urlaub?tmpl=
 component</a>DTSTAMP:20260425T125304
DTSTART;VALUE=DATE:20200205
DTEND;VALUE=DATE:20200215
SEQUENCE:0
TRANSP:OPAQUE
END:VEVENT
END:VCALENDAR