BEGIN:VCALENDAR
VERSION:2.0
PRODID:-//jEvents 2.0 for Joomla//EN
CALSCALE:GREGORIAN
METHOD:PUBLISH
BEGIN:VEVENT
UID:42bb7f91d71225cbf9fe6d28c364b946
CATEGORIES:Abwesenheit Lorena
CREATED:20200131T115704
SUMMARY:Fortbildung 
URL;VALUE=URI:https://www.eja-aalen.de/medien/kalender/icalrepeat.detail/2020/02/05/594/-
 /fortbildung?tmpl=component
DESCRIPTION: Dieser Event wurde importiert von: https://www.eja-aalen.de/medien/kalende
 r/icalrepeat.detail/2020/02/05/594/-/fortbildung?tmpl=component (https://ww
 w.eja-aalen.de/medien/kalender/icalrepeat.detail/2020/02/05/594/-/fortbildu
 ng?tmpl=component)
X-ALT-DESC;FMTTYPE=text/html: <a href="https://www.eja-aalen.de/medien/kalender/icalrepeat.detail/2020/0
 2/05/594/-/fortbildung?tmpl=component">Dieser Event wurde importiert von: h
 ttps://www.eja-aalen.de/medien/kalender/icalrepeat.detail/2020/02/05/594/-/
 fortbildung?tmpl=component</a>DTSTAMP:20260426T002232
DTSTART:20200205T080000
DTEND:20200207T170000
SEQUENCE:0
TRANSP:OPAQUE
END:VEVENT
END:VCALENDAR