BEGIN:VCALENDAR
VERSION:2.0
PRODID:-//jEvents 2.0 for Joomla//EN
CALSCALE:GREGORIAN
METHOD:PUBLISH
BEGIN:VEVENT
UID:c38135d3688a84f37cc4fad527ce5582
CATEGORIES:Veranstaltungen
CREATED:19700101T000000
SUMMARY:rAuszeit - online Angebot für alle Interessierten
LOCATION:http://eja-aalen.de/rauszeit
URL;VALUE=URI:https://www.eja-aalen.de/medien/kalender/icalrepeat.detail/2020/05/06/671/-
 /rauszeit-online-angebot-fuer-alle-interessierten?tmpl=component
DESCRIPTION:<p>Dich erwartet:</p><p>- gemeinsamer Austausch &uuml;ber ein Thema (orient
 iert am Wochenthema: wertvoll)</p><p>- lebendige Gespr&auml;che oder einfac
 h nur Zuh&ouml;ren k&ouml;nnen</p><p>- offene Runde, jederzeit ist der Ein-
  und Ausstieg m&ouml;glich</p> <a href="https://www.eja-aalen.de/medien/kal
 ender/icalrepeat.detail/2020/05/06/671/-/rauszeit-online-angebot-fuer-alle-
 interessierten?tmpl=component">Dieser Event wurde importiert von: https://w
 ww.eja-aalen.de/medien/kalender/icalrepeat.detail/2020/05/06/671/-/rauszeit
 -online-angebot-fuer-alle-interessierten?tmpl=component</a>CONTACT:gemperlein.verena@eja-aalen.de
DTSTAMP:20260425T125318
DTSTART:20200506T160000
DTEND:20200506T163000
SEQUENCE:0
RRULE:FREQ=WEEKLY;UNTIL=20200511T000000Z;INTERVAL=1;BYDAY=SU,WE,TH
TRANSP:OPAQUE
END:VEVENT
END:VCALENDAR